BEGIN:VCALENDAR
VERSION:2.0
PRODID:-//Stefan Müller - ECPv6.15.20//NONSGML v1.0//EN
CALSCALE:GREGORIAN
METHOD:PUBLISH
X-ORIGINAL-URL:https://stefanmueller.ch
X-WR-CALDESC:Veranstaltungen für Stefan Müller
REFRESH-INTERVAL;VALUE=DURATION:PT1H
X-Robots-Tag:noindex
X-PUBLISHED-TTL:PT1H
BEGIN:VTIMEZONE
TZID:Europe/Zurich
BEGIN:DAYLIGHT
TZOFFSETFROM:+0100
TZOFFSETTO:+0200
TZNAME:CEST
DTSTART:20250330T010000
END:DAYLIGHT
BEGIN:STANDARD
TZOFFSETFROM:+0200
TZOFFSETTO:+0100
TZNAME:CET
DTSTART:20251026T010000
END:STANDARD
BEGIN:DAYLIGHT
TZOFFSETFROM:+0100
TZOFFSETTO:+0200
TZNAME:CEST
DTSTART:20260329T010000
END:DAYLIGHT
BEGIN:STANDARD
TZOFFSETFROM:+0200
TZOFFSETTO:+0100
TZNAME:CET
DTSTART:20261025T010000
END:STANDARD
BEGIN:DAYLIGHT
TZOFFSETFROM:+0100
TZOFFSETTO:+0200
TZNAME:CEST
DTSTART:20270328T010000
END:DAYLIGHT
BEGIN:STANDARD
TZOFFSETFROM:+0200
TZOFFSETTO:+0100
TZNAME:CET
DTSTART:20271031T010000
END:STANDARD
END:VTIMEZONE
BEGIN:VEVENT
DTSTART;TZID=Europe/Zurich:20260605T193000
DTEND;TZID=Europe/Zurich:20260605T193000
DTSTAMP:20260421T122100
CREATED:20251017T093838Z
LAST-MODIFIED:20251017T094543Z
UID:5821-1780687800-1780687800@stefanmueller.ch
SUMMARY:Klingendes Licht
DESCRIPTION:
URL:https://stefanmueller.ch/event/an-die-freude-schola-cantorum-wettingensis-2-2-2-3-2-6-2-3-3-6-2-2-2/
LOCATION:Fraumünster Zürich
END:VEVENT
BEGIN:VEVENT
DTSTART;TZID=Europe/Zurich:20260606T193000
DTEND;TZID=Europe/Zurich:20260606T193000
DTSTAMP:20260421T122100
CREATED:20251017T094637Z
LAST-MODIFIED:20251017T094724Z
UID:5830-1780774200-1780774200@stefanmueller.ch
SUMMARY:Klingendes Licht
DESCRIPTION:
URL:https://stefanmueller.ch/event/an-die-freude-schola-cantorum-wettingensis-2-2-2-3-2-6-2-3-3-6-2-2-2-2/
LOCATION:Fraumünster Zürich
END:VEVENT
BEGIN:VEVENT
DTSTART;TZID=Europe/Zurich:20260607T170000
DTEND;TZID=Europe/Zurich:20260607T170000
DTSTAMP:20260421T122100
CREATED:20251017T094836Z
LAST-MODIFIED:20251017T094836Z
UID:5832-1780851600-1780851600@stefanmueller.ch
SUMMARY:Klingendes Licht
DESCRIPTION:
URL:https://stefanmueller.ch/event/an-die-freude-schola-cantorum-wettingensis-2-2-2-3-2-6-2-3-3-6-2-2-2-2-2/
LOCATION:Stadtkirche Winterthur
END:VEVENT
BEGIN:VEVENT
DTSTART;TZID=Europe/Zurich:20260627T201500
DTEND;TZID=Europe/Zurich:20260627T201500
DTSTAMP:20260421T122100
CREATED:20260111T204904Z
LAST-MODIFIED:20260112T205650Z
UID:6085-1782591300-1782591300@stefanmueller.ch
SUMMARY:Antonín Dvořák - Stabat Mater
DESCRIPTION:
URL:https://stefanmueller.ch/event/an-die-freude-schola-cantorum-wettingensis-2-2-2-4-2-3-2-4-2-2/
LOCATION:Stadtkirche Baden
END:VEVENT
BEGIN:VEVENT
DTSTART;TZID=Europe/Zurich:20260628T170000
DTEND;TZID=Europe/Zurich:20260628T170000
DTSTAMP:20260421T122100
CREATED:20260111T205533Z
LAST-MODIFIED:20260112T205627Z
UID:6089-1782666000-1782666000@stefanmueller.ch
SUMMARY:Antonín Dvořák - Stabat Mater
DESCRIPTION:
URL:https://stefanmueller.ch/event/an-die-freude-schola-cantorum-wettingensis-2-2-2-4-2-3-2-4-2-2-2/
LOCATION:Kirche St. Anton\, Wettingen
END:VEVENT
END:VCALENDAR